BEGIN:VCALENDAR
VERSION:2.0
PRODID:-//eventon.com NONSGML v1.0//EN
CALSCALE:GREGORIAN
METHOD:PUBLISH
BEGIN:VEVENT
UID:69e9ee3068623
DTSTAMP:20260423T100224Z
DTSTART:20191022T180000Z
DTEND:20191022T200000Z
LOCATION:
SUMMARY:Dr. Kürti Sándor: Építs brandet!
DESCRIPTION:Kürti Sándor előadása brandépítésről\,  vállalatfejles
 ztésről\,  humoros stílusban. Vannak jól működő\,  sikeres vállalk
 ozások\,  cégek – és vannak kevésbé sikeresek. Az előadó szerint e
 gy különbség biztosan van a kettő között: a jól működő vállalkoz
 ás rendelkezik felépített\,  saját branddel\,  a kevésbé jól működ
 ő csak a megoldandó feladatokat tartja szem előtt. Arról\,  hogy fontos
 -e saját[..]\nhttps://momkult.hu/events/dr-kurti-sandor-epits-brandet/
URL:https://momkult.hu/events/dr-kurti-sandor-epits-brandet/
END:VEVENT
END:VCALENDAR