BEGIN:VCALENDAR
VERSION:2.0
PRODID:-//eventon.com NONSGML v1.0//EN
CALSCALE:GREGORIAN
METHOD:PUBLISH
BEGIN:VEVENT
UID:69ea19576550e
DTSTAMP:20260423T130631Z
DTSTART:20190918T160000Z
DTEND:20190918T173000Z
LOCATION:
SUMMARY:Aradi Állami Filharmónia
DESCRIPTION:Arad városa és a Hegyvidék között 2010 óta tart a szoros 
 kulturális kötelék. A testvérvárosi kapcsolat jegyében idén ősszel 
 az Aradi Állami Filharmónia ismét a MOM Kulturális Központban ad konce
 rtet. &nbsp; Szólisták: Constantin Talmaciu – fuvola Sara Gheorghe – 
 marimba Karmester: Dorin Frandeș A. Mozart: Divertimento K 136 D-dúr von
 szenekarra[..]\nhttps://momkult.hu/events/aradi-allami-filharmonia/
URL:https://momkult.hu/events/aradi-allami-filharmonia/
END:VEVENT
END:VCALENDAR