BEGIN:VCALENDAR
VERSION:2.0
PRODID:-//eventon.com NONSGML v1.0//EN
CALSCALE:GREGORIAN
METHOD:PUBLISH
BEGIN:VEVENT
UID:69ea199d054ce
DTSTAMP:20260423T130741Z
DTSTART:20190925T170000Z
DTEND:20190925T183000Z
LOCATION:
SUMMARY:Hitel-est
DESCRIPTION:Nagy András Ember tervez… és Papp Endre Görömbei András
  című könyveinek bemutatója. Közreműködnek: Falusi Márton Kara Gyö
 rgy Nagy Gábor\nhttps://momkult.hu/events/hitel-est-6/
URL:https://momkult.hu/events/hitel-est-6/
END:VEVENT
END:VCALENDAR