BEGIN:VCALENDAR
VERSION:2.0
PRODID:-//eventon.com NONSGML v1.0//EN
CALSCALE:GREGORIAN
METHOD:PUBLISH
BEGIN:VEVENT
UID:69ea18f474ffe
DTSTAMP:20260423T130452Z
DTSTART:20190914
DTEND:20190915
LOCATION:
SUMMARY:Agatha Christie FesztivÃ¡l
DESCRIPTION:AgathaFeszt â€“ Agatha Christie FesztivÃ¡l Agatha Christie nÃ©l
 kÃ¼l lehet Ã©lni\,  de nem Ã©rdemes&#8230; Legyen az regÃ©ny\,  szÃ­ndarab\
 ,  film vagy egy Ã©letÃ©rzÃ©s\,  Agatha Christie kell! A kÃ©tnapos fesztivÃ
 ¡l alatt szÃ­nes programkÃ­nÃ¡lat vÃ¡rja Agatha Christie rajongÃ³it. Progra
 m BÅ±ntÃ©nyek a kÃ¶nyvtÃ¡rszobÃ¡bÃ³l â€“ NyitÃ³elÅ‘adÃ¡s ElÅ‘adÃ³: Dr. Kiss
  Anna â€“ tudomÃ¡nyos fÅ‘munkatÃ¡rs\,  OrszÃ¡gos KriminolÃ³giai IntÃ©zet[..
 ]\nhttps://momkult.hu/events/agatha-christie-fesztival-2/
URL:https://momkult.hu/events/agatha-christie-fesztival-2/
END:VEVENT
END:VCALENDAR