BEGIN:VCALENDAR
VERSION:2.0
PRODID:-//eventon.com NONSGML v1.0//EN
CALSCALE:GREGORIAN
METHOD:PUBLISH
BEGIN:VEVENT
UID:69ea2f3ebd012
DTSTAMP:20260423T143958Z
DTSTART:20190906
DTEND:20190907
LOCATION:
SUMMARY:A spontÃ¡n kreativitÃ¡s felÃ©bresztÃ©se | Ligmincha
DESCRIPTION:â€žSokan Ãºgy gondoljÃ¡k\,  a kreativitÃ¡s isteni adottsÃ¡g\,  
 ami csak a kivÃ¡lasztottaknak adatik meg.&#8221; Tenzin Wangyal Rinpocse ta
 nÃ­tÃ¡sÃ¡n bevezetÃ©st ad a bÃ¶n buddhizmus Å‘si gyakorlatÃ¡ba\,  amely kÃ©
 pes a bennÃ¼nk rejlÅ‘ kreatÃ­v lehetÅ‘sÃ©geket Ã©s energiÃ¡kat felszabadÃ­t
 ani. A gyakorlat elvÃ©gzÃ©sÃ©hez nem szÃ¼ksÃ©ges kÃ¼lsÅ‘ segÃ©deszkÃ¶z\,  Ã
 ­gy kÃ¶nnyen Ã¡tÃ¼ltethetÅ‘ a hÃ©tkÃ¶znapi Ã©letbe\,  amelynek Ã­gy minden[
 ..]\nhttps://momkult.hu/events/a-spontan-kreativitas-felebresztese-ligminch
 a/
URL:https://momkult.hu/events/a-spontan-kreativitas-felebresztese-ligmincha/
END:VEVENT
END:VCALENDAR