BEGIN:VCALENDAR
VERSION:2.0
PRODID:-//eventon.com NONSGML v1.0//EN
CALSCALE:GREGORIAN
METHOD:PUBLISH
BEGIN:VEVENT
UID:69ea18915c69e
DTSTAMP:20260423T130313Z
DTSTART:20190926T180000Z
DTEND:20190926T200000Z
LOCATION:
SUMMARY:Opera StandUp
DESCRIPTION:Hábetler András és a FareMido Operatársulat „Adjon esély
 t az operának! Opera pátosz és mikrofon nélkül\,  kivételes hangokkal
  és sok humorral.” Az Opera StandUp újszerű\,  magával ragadó élmé
 nyt nyújthat a műfajt kedvelő közönségnek és az opera műfajától e
 ddig idegenkedőknek egyaránt. A FareMido Operatársulat Bt. egy Baráti T
 ársaság\,  amit az a szándék[..]\nhttps://momkult.hu/events/opera-stand
 up/
URL:https://momkult.hu/events/opera-standup/
END:VEVENT
END:VCALENDAR