BEGIN:VCALENDAR
VERSION:2.0
PRODID:-//eventon.com NONSGML v1.0//EN
CALSCALE:GREGORIAN
METHOD:PUBLISH
BEGIN:VEVENT
UID:69ea2e497b27b
DTSTAMP:20260423T143553Z
DTSTART:20190910T180000Z
DTEND:20190910T200000Z
LOCATION:
SUMMARY:Férfiszemmel
DESCRIPTION:„Lehet-e barátság férfi és nő között\,  és ha igen\, 
  miért nem?” Karinthy Frigyes Háziasszony: Liptai Claudia Liptai Claudi
 a meghívott vendégeivel a férfi és nő kapcsolatáról\,  annak nehézs
 égeiről és örömeiről beszélget. Szereplők: Liptai Claudia Bochkor G
 ábor Czutor Zoltán Garami Gábor Hajós András Nagy Ervin Kajdi Csaba Sz
 ínpadi talkshow Magyarország népszerű férfi[..]\nhttps://momkult.hu/ev
 ents/ferfiszemmel/
URL:https://momkult.hu/events/ferfiszemmel/
END:VEVENT
END:VCALENDAR