BEGIN:VCALENDAR
VERSION:2.0
PRODID:-//eventon.com NONSGML v1.0//EN
CALSCALE:GREGORIAN
METHOD:PUBLISH
BEGIN:VEVENT
UID:69ea19576550e
DTSTAMP:20260423T130631Z
DTSTART:20190927T183000Z
DTEND:20190927T210000Z
LOCATION:
SUMMARY:Hegyvidéki Smooth Jazz Klub
DESCRIPTION:Király Martina a Liszt Ferenc Zeneművészeti Egyetem jazz tan
 székének ének szakán végzett. Pályáját az Equinox Jazz Quartetben k
 ezdte\,  majd a tizenhárom tagú\,  „urbánus popzenét” játszó Anse
 lmo Crew énekesnőjeként folytatta munkáját. Szerzőként\,  illetve el
 őadóként dolgozott a Hobo Blues Banddel\,  Zoohackerrel\,  Palya Beával
  és Novák Péterrel. Első lemeze 2011-ben jelent meg Ready[..]\nhttps://
 momkult.hu/events/hegyvideki-smooth-jazz-klub-kiraly-martina/
URL:https://momkult.hu/events/hegyvideki-smooth-jazz-klub-kiraly-martina/
END:VEVENT
END:VCALENDAR