BEGIN:VCALENDAR
VERSION:2.0
PRODID:-//eventon.com NONSGML v1.0//EN
CALSCALE:GREGORIAN
METHOD:PUBLISH
BEGIN:VEVENT
UID:69ea2e49c3e24
DTSTAMP:20260423T143553Z
DTSTART:20190917T173000Z
DTEND:20190917T190000Z
LOCATION:
SUMMARY:Hello\,  WMN!
DESCRIPTION:Létezik igaz barátság nők között? Létezik hát! A Hello\
 ,  WMN! szeptemberi estjén a női közösségek\,  a támogató kapcsolato
 k fontosságáról beszélgetnek a meghívott vendégek\,  akik azt a felad
 atot kapják\,  hogy hozzák el és mutassák be a legjobb barátnőjüket.
  Szó lesz arról\,  hogy milyen az igaz barátság\,  hogyan lehet megmara
 dni egymásnak jóban-rosszban\, [..]\nhttps://momkult.hu/events/hello-wmn-
 4/
URL:https://momkult.hu/events/hello-wmn-4/
END:VEVENT
END:VCALENDAR