BEGIN:VCALENDAR
VERSION:2.0
PRODID:-//eventon.com NONSGML v1.0//EN
CALSCALE:GREGORIAN
METHOD:PUBLISH
BEGIN:VEVENT
UID:69e50959b0446
DTSTAMP:20260419T165657Z
DTSTART:20191027T190000Z
DTEND:20191027T210000Z
LOCATION:
SUMMARY:SzÃ©csi PÃ¡l emlÃ©kest Mujahid ZoltÃ¡n elÅ‘adÃ¡sÃ¡ban
DESCRIPTION:IdÃ©n van SzÃ©csi PÃ¡l szÃ¼letÃ©sÃ©nek 75.\,  halÃ¡lÃ¡nak 45. Ã
 ©vfordulÃ³ja. A kettÅ‘s Ã©vfordulÃ³ jegyÃ©ben nagyszabÃ¡sÃº koncert emlÃ©ke
 zik a hazai kÃ¶nnyÅ±zenei Ã©let emblematikus alakjÃ¡ra. SzÃ©csi PÃ¡l korÃ¡n
 ak legnagyobb sztÃ¡rja volt. Ã‰des-bÃºs hangja\,  csibÃ©szes\,  ugyanakkor 
 szomorkÃ¡s mosolya elvarÃ¡zsolta a nÃ©zÅ‘ket. SzÃ©csi a magyar tÃ¡nczenei k
 ultÃºra meghatÃ¡rozÃ³\,  dalaiban mÃ¡ig tovÃ¡bbÃ©lÅ‘ elÅ‘adÃ³ja. RÃ¶vid pÃ¡
 lyafutÃ¡sa ellenÃ©re[..]\nhttps://momkult.hu/events/szecsi-pal-emlekest-muj
 ahid-zoltan-eloadasaban/
URL:https://momkult.hu/events/szecsi-pal-emlekest-mujahid-zoltan-eloadasaban/
END:VEVENT
END:VCALENDAR