BEGIN:VCALENDAR
VERSION:2.0
PRODID:-//eventon.com NONSGML v1.0//EN
CALSCALE:GREGORIAN
METHOD:PUBLISH
BEGIN:VEVENT
UID:69ea000bbe9f8
DTSTAMP:20260423T111835Z
DTSTART:20191008T180000Z
DTEND:20191008T193000Z
LOCATION:
SUMMARY:Görög Ibolya protokoll- és etikettszakértő előadása
DESCRIPTION:Viselkedéskultúra\,  metakommunikáció\,  öltözködés Haz
 ánk protokoll-nagyasszonyaként ismerte meg őt az ország. Görög Ibolya
 \,  a Miniszterelnöki Hivatal egykori protokollfőnöke\,  ma saját váll
 alkozást vezet\,  előadásokat tart és könyveket ír. A hétköznapi sz
 ituációknak is megvan a maga &#8222;protokollja&#8221;. Amikor megismerü
 nk valakit – legyen szó munkáról vagy magánéletről –\,  végigpá
 sztázzuk az illetőt a feje búbjától[..]\nhttps://momkult.hu/events/gor
 og-ibolya-protokoll-es-etikettszakerto-eloadasa/
URL:https://momkult.hu/events/gorog-ibolya-protokoll-es-etikettszakerto-eloadasa/
END:VEVENT
END:VCALENDAR