BEGIN:VCALENDAR
VERSION:2.0
PRODID:-//eventon.com NONSGML v1.0//EN
CALSCALE:GREGORIAN
METHOD:PUBLISH
BEGIN:VEVENT
UID:69ea19c9ef92c
DTSTAMP:20260423T130825Z
DTSTART:20190924T180000Z
DTEND:20190924T193000Z
LOCATION:
SUMMARY:Elmarad | Müller Péter-est: Lélektuning
DESCRIPTION:Kedves Érdeklődők! A szeptemberi Müller Péter-est sajnála
 tos módon elmarad. Az előadó egészségügyi állapota miatt kénytelen 
 távol maradni a színpadtól egy időre. Legkésőbb 2020 első hónapjaib
 an az esemény megrendezésre kerül. Köszönjük megértésüket! A sorsf
 ormálás mágiája „A lelke mélyén mindenki tudja\,  hogy halhatatlan.
  Csak rá kell ébrednie.” Müller Péter Értsük meg önmagunkat[..]\nh
 ttps://momkult.hu/events/elmarad-muller-peter-est-lelektuning/
URL:https://momkult.hu/events/elmarad-muller-peter-est-lelektuning/
END:VEVENT
END:VCALENDAR