BEGIN:VCALENDAR
VERSION:2.0
PRODID:-//eventon.com NONSGML v1.0//EN
CALSCALE:GREGORIAN
METHOD:PUBLISH
BEGIN:VEVENT
UID:69e9c61199f35
DTSTAMP:20260423T071113Z
DTSTART:20191112T190000Z
DTEND:20191112T210000Z
LOCATION:
SUMMARY:Kemény Dénes: Pozitív Stressz
DESCRIPTION:„Stresszes vagyok! Ez biztos rossz dolog? Hogyan tudnám a ja
 vamra fordítani?” Kemény Dénes bebizonyította\,  hogy lehetséges. Eg
 y edzőnek mindig tudnia kell\,  hol van az a pont\,  amikor a stressz még
  ösztönöz\,  de nem rombol. Kemény Dénes edzőként és játékosként
  is tudta\,  hogy mikor és mivel ösztönözze társait. E tudás az[..]\n
 https://momkult.hu/events/kemeny-denes-pozitiv-stressz/
URL:https://momkult.hu/events/kemeny-denes-pozitiv-stressz/
END:VEVENT
END:VCALENDAR