BEGIN:VCALENDAR
VERSION:2.0
PRODID:-//eventon.com NONSGML v1.0//EN
CALSCALE:GREGORIAN
METHOD:PUBLISH
BEGIN:VEVENT
UID:69ea17e45fb34
DTSTAMP:20260423T130020Z
DTSTART:20190920T180000Z
DTEND:20190920T200000Z
LOCATION:
SUMMARY:Szűcs Máté és az Anima Musicae Kamarazenekar | Ars Sacra Fesztivál
DESCRIPTION:Szeptember 20-án Ars Sacra Fesztivál a MOM Kulturális Közpo
 ntban is. XIII. Ars Sacra Fesztivál 2019. szeptember 14-22. között: szak
 rális-művészeti programok kilenc napon át\,  több helyszínen. „Legy
 etek mindnyájan egy!” (Jn 17\, 21) A fesztivál célja a hit ihlette mű
 vészeti alkotások bemutatása. Az Ars Sacra Alapítvány minden év szept
 ember harmadik hetében szervezi a[..]\nhttps://momkult.hu/events/szucs-mat
 e-es-az-anima-musicae-kamarazenekar-ars-sacra-fesztival/
URL:https://momkult.hu/events/szucs-mate-es-az-anima-musicae-kamarazenekar-ars-sacra-fesztival/
END:VEVENT
END:VCALENDAR