BEGIN:VCALENDAR
VERSION:2.0
PRODID:-//eventon.com NONSGML v1.0//EN
CALSCALE:GREGORIAN
METHOD:PUBLISH
BEGIN:VEVENT
UID:69e9c6391348d
DTSTAMP:20260423T071153Z
DTSTART:20191116T100000Z
DTEND:20191116T110000Z
LOCATION:
SUMMARY:Ludas Matyi | BA-LU EUfórikusok | Bon Bon Matiné
DESCRIPTION:A Balogh-Lukácsházi szerzőpáros Ludas Matyi történetét z
 enésítette meg\,  hogy a történet zenei feldolgozását is ismertté te
 gyék. A gyerekeknek szóló műveket alkotó szerzőpáros\,  korábbi pro
 dukciói után – Egy másik kiállítás képei\,  Tuba Tóbiás\,  Erdei
  Vigasságok\,  Kistigris –\,  ismét humoros történetet dolgozott fel.
  Céljuk változatlan: megkedveltetni a legifjabbakkal a hangszerek és kon
 certtermek[..]\nhttps://momkult.hu/events/ludas-matyi-ba-lu-euforikusok-bon
 -bon-matine/
URL:https://momkult.hu/events/ludas-matyi-ba-lu-euforikusok-bon-bon-matine/
END:VEVENT
END:VCALENDAR