BEGIN:VCALENDAR
VERSION:2.0
PRODID:-//eventon.com NONSGML v1.0//EN
CALSCALE:GREGORIAN
METHOD:PUBLISH
BEGIN:VEVENT
UID:69e9a03dc6011
DTSTAMP:20260423T042949Z
DTSTART:20191207T100000Z
DTEND:20191207T110000Z
LOCATION:
SUMMARY:MikulÃ¡s kesztyÅ±je | InteraktÃ­v zenÃ©s mesejÃ¡tÃ©k | Bon Bon MatinÃ©
DESCRIPTION:A GÃ¶rÃ¶mbÅ‘ KompÃ¡nia magyar nÃ©pmesÃ©k zenÃ©s-tÃ¡ncos bemutat
 Ã¡sÃ¡n keresztÃ¼l hosszÃº Ã©vek Ã³ta nÃ©pszerÅ±sÃ­ti a nÃ©pzenÃ©t. A MikulÃ
 ¡s kesztyÅ±je cÃ­mÅ± mÅ±sorukban Petinek kÃ¼lÃ¶nbÃ¶zÅ‘ kalandokon kell kere
 sztÃ¼lmennie ahhoz\,  hogy megtalÃ¡lja MikulÃ¡s kesztyÅ±jÃ©t. Az elÅ‘adÃ¡s 
 a duda\,  a tekerÅ‘lant Ã©s tovÃ¡bbi nÃ©pi hangszerek bemutatÃ¡sÃ¡n tÃºl be
 mutatja a gyerekeknek\,  mirÅ‘l szÃ³l MikulÃ¡s Ã¼nnepe a nÃ©pi[..]\nhttps:/
 /momkult.hu/events/mikulas-kesztyuje-interaktiv-zenes-mesejatek-bon-bon-mat
 ine/
URL:https://momkult.hu/events/mikulas-kesztyuje-interaktiv-zenes-mesejatek-bon-bon-matine/
END:VEVENT
END:VCALENDAR