BEGIN:VCALENDAR
VERSION:2.0
PRODID:-//eventon.com NONSGML v1.0//EN
CALSCALE:GREGORIAN
METHOD:PUBLISH
BEGIN:VEVENT
UID:69e9f0d675b58
DTSTAMP:20260423T101342Z
DTSTART:20191019T090000Z
DTEND:20191019T100000Z
LOCATION:
SUMMARY:Jancsi Ã©s Juliska | Ventoscala Sinfonietta | Bon Bon MatinÃ©
DESCRIPTION:A Grimm testvÃ©rek hÃ­res mesÃ©jÃ©t\,  Jancsi Ã©s Juliska tÃ¶rt
 Ã©netÃ©t\,  nem szÃ¼ksÃ©ges bemutatni. A lelemÃ©nyes testvÃ©rpÃ¡r szeretetÃ
 ©rÅ‘l\,  Ã¶sszetartÃ¡sÃ¡rÃ³l szÃ³lÃ³\,  Ã¶rÃ¶k Ã©rvÃ©nyÅ± tÃ¶rtÃ©net soha n
 em lÃ¡tott-hallott mÃ³don kerÃ¼l bemutatÃ¡sra a Ventoscala Sinfonietta mÅ±v
 Ã©szeinek elÅ‘adÃ¡sÃ¡ban. A sokoldalÃº\,  Ã©s a vilÃ¡g kÃ¼lÃ¶nbÃ¶zÅ‘ pontja
 in szÃ¡mos dÃ­jjal jutalmazott kortÃ¡rs zeneszerzÅ‘nÅ‘\,  Dobszay-MeskÃ³ Il
 ona\,  valamint LukÃ¡cshÃ¡zi GyÅ‘zÅ‘\,  a[..]\nhttps://momkult.hu/events/ja
 ncsi-es-juliska-ventoscala-sinfonietta-bon-bon-matine/
URL:https://momkult.hu/events/jancsi-es-juliska-ventoscala-sinfonietta-bon-bon-matine/
END:VEVENT
END:VCALENDAR