BEGIN:VCALENDAR
VERSION:2.0
PRODID:-//eventon.com NONSGML v1.0//EN
CALSCALE:GREGORIAN
METHOD:PUBLISH
BEGIN:VEVENT
UID:69ea17cb84db2
DTSTAMP:20260423T125955Z
DTSTART:20190916T190000Z
DTEND:20190916T210000Z
LOCATION:
SUMMARY:DAVINA & THE VAGABONDS | Get Closer Concerts
DESCRIPTION:A Davina &amp; the Vagabonds energikus előadásmódjában Etta
  James\,  Amy Winehouse\,  Billie Holiday\,  Janis Joplin és Tom Waits han
 gzásvilága szólal meg. Az együttes a New Orleans Jazz and Heritage Fest
 ival\,  a Monterey Jazz Festival és a North Sea Jazz Festival után a buda
 pesti közönség előtt lép színpadra.\nhttps://momkult.hu/events/davina
 -the-vagabonds-get-closer-concerts/
URL:https://momkult.hu/events/davina-the-vagabonds-get-closer-concerts/
END:VEVENT
END:VCALENDAR