BEGIN:VCALENDAR
VERSION:2.0
PRODID:-//eventon.com NONSGML v1.0//EN
CALSCALE:GREGORIAN
METHOD:PUBLISH
BEGIN:VEVENT
UID:69ea18ab01ae8
DTSTAMP:20260423T130339Z
DTSTART:20190922T093000Z
DTEND:20190922T103000Z
LOCATION:
SUMMARY:Kuruttyoló békakirály meséi | Veronaki | GyerekMOM
DESCRIPTION:Veronika saját műveit meséli a gyerekeknek. A történeten k
 eresztül jut el a dalokig\,  amelyek a mese csúcspontjain szólalnak meg.
  Fejér Simon és Mogyoró Kornél zenei játéka teszi teljessé a meséve
 l fűszerezett koncertélményt. A triókoncert repertoárjában afrikai gy
 ermekdalok feldolgozása mellett indiai\,  lappföldi\,  litván\,  pakiszt
 áni\,  magyar népdalokat és sok más zenei csemegét[..]\nhttps://momkul
 t.hu/events/kuruttyolo-bekakiraly-mesei-veronaki-gyerekmom/
URL:https://momkult.hu/events/kuruttyolo-bekakiraly-mesei-veronaki-gyerekmom/
END:VEVENT
END:VCALENDAR