BEGIN:VCALENDAR
VERSION:2.0
PRODID:-//eventon.com NONSGML v1.0//EN
CALSCALE:GREGORIAN
METHOD:PUBLISH
BEGIN:VEVENT
UID:69e9c39973a67
DTSTAMP:20260423T070041Z
DTSTART:20191116T190000Z
DTEND:20191116T220000Z
LOCATION:
SUMMARY:Solaris â€“ Nostradamus 2.0 | Az IdÅ‘ Rendje
DESCRIPTION:IdÃ©n 20 Ã©ve\,  1999-ben jelent meg a SOLARIS zenekar Nostrada
 mus-albuma\,  a PrÃ³fÃ©ciÃ¡k KÃ¶nyve. Az Ã©vfordulÃ³ tiszteletÃ©re az egyÃ¼
 ttes elkÃ©szÃ­ti az album folytatÃ¡sÃ¡t\,  a NOSTRADAMUS 2.0-t. A lemez stÃ
 ºdiÃ³munkÃ¡latai folynak\,  a megjelenÃ©s dÃ¡tuma az Ã©lÅ‘ lemezbemutatÃ³ d
 Ã¡tuma is egyben: 2019. november 16. MunkacÃ­mek a lemez anyagÃ¡bÃ³l: 50 â€
 “ utalva Neil Armstrong[..]\nhttps://momkult.hu/events/solaris-nostradamus-
 2-0-az-ido-rendje/
URL:https://momkult.hu/events/solaris-nostradamus-2-0-az-ido-rendje/
END:VEVENT
END:VCALENDAR