BEGIN:VCALENDAR
VERSION:2.0
PRODID:-//eventon.com NONSGML v1.0//EN
CALSCALE:GREGORIAN
METHOD:PUBLISH
BEGIN:VEVENT
UID:69e99e62cadcf
DTSTAMP:20260423T042154Z
DTSTART:20191204T190000Z
DTEND:20191204T210000Z
LOCATION:
SUMMARY:Dr. MÃ©rÅ‘ LÃ¡szlÃ³: Az Ã©rzelmek logikÃ¡ja | ÃšjratÃ¶ltve
DESCRIPTION:MÃ©rÅ‘ LÃ¡szlÃ³ nÃ©pszerÅ± elÅ‘adÃ¡sa felÃºjÃ­tva\,  Ãºj kÃ¶ntÃ
 ¶sben\,  az elmÃºlt Ã©vek kutatÃ¡sainak eredmÃ©nyeivel kiegÃ©szÃ­tve. â€žA 
 pszicholÃ³giai kutatÃ¡sok bÅ‘ fÃ©l Ã©vszÃ¡zadon Ã¡t elkerÃ¼ltÃ©k az Ã©rzelm
 eket\,  mert nem lÃ¡tszott\,  mikÃ©ppen lehet ezeket kutatni. Az utÃ³bbi 25
 -30 Ã©vben azonban sikerÃ¼lt erre Ã©rdemi eszkÃ¶zÃ¶ket talÃ¡lni\,  Ã©s a ku
 tatÃ¡sok meglepÅ‘ eredmÃ©nyekkel jÃ¡rtak. KiderÃ¼lt\,  hogy mÃ©g a[..]\nhtt
 ps://momkult.hu/events/dr-mero-laszlo-az-erzelmek-logikaja-ujratoltve/
URL:https://momkult.hu/events/dr-mero-laszlo-az-erzelmek-logikaja-ujratoltve/
END:VEVENT
END:VCALENDAR