BEGIN:VCALENDAR
VERSION:2.0
PRODID:-//eventon.com NONSGML v1.0//EN
CALSCALE:GREGORIAN
METHOD:PUBLISH
BEGIN:VEVENT
UID:69e9d6464f129
DTSTAMP:20260423T082022Z
DTSTART:20191105T190000Z
DTEND:20191105T210000Z
LOCATION:
SUMMARY:Dr. Mérő László: Az elvek csapodár természete
DESCRIPTION:Léteznek-e egy életen át megdönthetetlen szilárdságú elv
 ek? Mi a célravezetőbb: makacsul ragaszkodni elveinkhez\,  vagy rugalmasa
 n kell kezelni nézeteinket? Van-e értelme egyáltalán elveket fabrikáln
 i? Mérő László legújabb előadásában az elveket veszi górcső alá.
  Tudományos Stand Up – az igényes szórakozás kedvelőinek.\nhttps://m
 omkult.hu/events/dr-mero-laszlo-az-elvek-csapodar-termeszete/
URL:https://momkult.hu/events/dr-mero-laszlo-az-elvek-csapodar-termeszete/
END:VEVENT
END:VCALENDAR