BEGIN:VCALENDAR
VERSION:2.0
PRODID:-//eventon.com NONSGML v1.0//EN
CALSCALE:GREGORIAN
METHOD:PUBLISH
BEGIN:VEVENT
UID:69e9dee0538d6
DTSTAMP:20260423T085704Z
DTSTART:20191027T093000Z
DTEND:20191027T103000Z
LOCATION:
SUMMARY:Biciklizés - Reggeltől estig | Gryllus Vilmos koncertje
DESCRIPTION:Ezt a műsort két lemez dalaiból válogatta Vilmos. Az egyik 
 arról szól\,  mi mindent láttunk-találtunk biciklizés közben\,  milye
 n volt az édes szeder és a csípős csalán\,  milyen a tiszta forrás é
 s az erdei pocsolya\,  hogy pöfögött a traktor és zakatolt a dízelmozd
 ony. A másik lemez annak bizonyítéka\,  hogy a kevésbé[..]\nhttps://mo
 mkult.hu/events/biciklizes-reggeltol-estig-gryllus-vilmos-koncertje/
URL:https://momkult.hu/events/biciklizes-reggeltol-estig-gryllus-vilmos-koncertje/
END:VEVENT
END:VCALENDAR