BEGIN:VCALENDAR
VERSION:2.0
PRODID:-//eventon.com NONSGML v1.0//EN
CALSCALE:GREGORIAN
METHOD:PUBLISH
BEGIN:VEVENT
UID:69e985ff2fd2f
DTSTAMP:20260423T023751Z
DTSTART:20191223T210000Z
DTEND:20191223T223000Z
LOCATION:
SUMMARY:Kolera a Vackor csoportban | BÃ¶dÅ‘cs Tibor Ã¶nÃ¡llÃ³ estje
DESCRIPTION:BÃ¶dÅ‘cs Tibor megkeresÃ©sÃ¼nkre az Ãºj estjÃ©rÅ‘l csak ennyit 
 Ã¡rult el: &#8222;Az emberisÃ©g nagy kÃ©rdÃ©seirÅ‘l Ã©s a hÃ©tkÃ¶znapok prÃ
 ³zai\,  kis pillanatairÃ³l fog szÃ³lni a mÅ±sor. Nagyon korai mÃ©g errÅ‘l b
 Ã¡rmit mondani. ArrÃ³l fogok beszÃ©lni\,  ami akkor a legjobban foglalkozta
 t majd.&#8221; ElÅ‘zenekar: HajdÃº BalÃ¡zsMinden jegy elkelt\nhttps://momku
 lt.hu/events/kolera-a-vackor-csoportban-bodocs-tibor-onallo-estje-3/
URL:https://momkult.hu/events/kolera-a-vackor-csoportban-bodocs-tibor-onallo-estje-3/
END:VEVENT
END:VCALENDAR