BEGIN:VCALENDAR
VERSION:2.0
PRODID:-//eventon.com NONSGML v1.0//EN
CALSCALE:GREGORIAN
METHOD:PUBLISH
BEGIN:VEVENT
UID:69e99df4a3873
DTSTAMP:20260423T042004Z
DTSTART:20191206T210000Z
DTEND:20191206T223000Z
LOCATION:
SUMMARY:Kolera a Vackor csoportban | BÃ¶dÅ‘cs Tibor Ã¶nÃ¡llÃ³ estje
DESCRIPTION:BÃ¶dÅ‘cs Tibor megkeresÃ©sÃ¼nkre az Ãºj estjÃ©rÅ‘l csak ennyit 
 Ã¡rult el: &#8222;Az emberisÃ©g nagy kÃ©rdÃ©seirÅ‘l Ã©s a hÃ©tkÃ¶znapok prÃ
 ³zai\,  kis pillanatairÃ³l fog szÃ³lni a mÅ±sor. Nagyon korai mÃ©g errÅ‘l b
 Ã¡rmit mondani. ArrÃ³l fogok beszÃ©lni\,  ami akkor a legjobban foglalkozta
 t majd.&#8221; ElÅ‘zenekar: TÃ³th EduMinden jegy elkelt\nhttps://momkult.hu
 /events/kolera-a-vackor-csoportban-bodocs-tibor-onallo-estje-4/
URL:https://momkult.hu/events/kolera-a-vackor-csoportban-bodocs-tibor-onallo-estje-4/
END:VEVENT
END:VCALENDAR