BEGIN:VCALENDAR
VERSION:2.0
PRODID:-//eventon.com NONSGML v1.0//EN
CALSCALE:GREGORIAN
METHOD:PUBLISH
BEGIN:VEVENT
UID:69ea2e559bae5
DTSTAMP:20260423T143605Z
DTSTART:20190805
DTEND:20190806
LOCATION:
SUMMARY:Tudorka tÃ¡bor
DESCRIPTION:NapiÂ program: 8:00 â€“ 9:00 NapvÃ¡rÃ³-beÃ©rkezÃ©s\,  szabad jÃ
 ¡tÃ©k 9:00 â€“ 10:00Â TudorkaÂ torna / gyerekjÃ³ga 10:00 â€“ 10:30 TÃ­zÃ³ra
 i 10:30 â€“ 12:00 MesepedagÃ³gia (a MesÃ©t MÃ¡skÃ©nt Ã©s a NÃ©pmesekincstÃ¡
 r mÃ³dszerek alapjÃ¡n) 12:00 â€“ 13:00 EbÃ©d 13:00 â€“ 14:00 Csendes pihenÅ
 ‘ (nagyoknak vetÃ­tÃ©s\,  jÃ¡tÃ©k &#8211; kicsiknek alvÃ¡s) 14:00 â€“ 15:30
  DÃ©lutÃ¡ni foglalkozÃ¡sok (Ã¶kotudatos foglalkozÃ¡sok[..]\nhttps://momkult
 .hu/events/tudorka-tabor-3/
URL:https://momkult.hu/events/tudorka-tabor-3/
END:VEVENT
END:VCALENDAR