BEGIN:VCALENDAR
VERSION:2.0
PRODID:-//eventon.com NONSGML v1.0//EN
CALSCALE:GREGORIAN
METHOD:PUBLISH
BEGIN:VEVENT
UID:69e9d6464f12a
DTSTAMP:20260423T082022Z
DTSTART:20191103T190000Z
DTEND:20191103T210000Z
LOCATION:
SUMMARY:X - Live in Budapest | Daniel Sloss
DESCRIPTION:English below Daniel Sloss\,  skóciai\,  nemzetközileg elisme
 rt és díjnyertes humorista\,  két Netflix sorozata („DARK” &amp; „
 Jigsaw”) sikere után\,  megérkezett új\,  átütő erejű showjával. 
 Előadott már a „Conan”-on (8X) és tizenegy alkalommal\,  telt házza
 l az Edinburgh Fesztiválon. „Mocskos\,  édes és okos.”  (The New Yo
 rk Times) Közreműködik: Kai Humphries Figyelem! A műsor[..]\nhttps://mo
 mkult.hu/events/x-live-in-budapest-daniel-sloss/
URL:https://momkult.hu/events/x-live-in-budapest-daniel-sloss/
END:VEVENT
END:VCALENDAR