BEGIN:VCALENDAR
VERSION:2.0
PRODID:-//eventon.com NONSGML v1.0//EN
CALSCALE:GREGORIAN
METHOD:PUBLISH
BEGIN:VEVENT
UID:69e9b278ee5b2
DTSTAMP:20260423T054736Z
DTSTART:20191122T190000Z
DTEND:20191122T213000Z
LOCATION:
SUMMARY:A MÃ©zga csalÃ¡d | zenÃ©s vÃ­gjÃ¡tÃ©k
DESCRIPTION:A Magyar TelevÃ­ziÃ³ban 1968-ban bemutatkozÃ³ MÃ©zga csalÃ¡d c.
  rajzfilmsorozat azonnal az egÃ©sz orszÃ¡g kedvence lett\,  tÃ¶rtÃ©netÃ©n t
 Ã¶bb generÃ¡ciÃ³ nÅ‘tt fel. MÃ©zgÃ¡Ã©k a gyerekeken kÃ­vÃ¼l a felnÅ‘tteket 
 is lenyÅ±gÃ¶ztÃ©k\,  a sorozatbÃ³l tÃ¶bb szÃ©ria is kÃ©szÃ¼lt\,  melyek ren
 dre megdÃ¶ntÃ¶ttÃ©k a nÃ©zettsÃ©gi rekordokat. A felejthetetlen\,  Ã¶rÃ¶kzÃ
 ¶ld tÃ¶rtÃ©net egy zenÃ©s vÃ­gjÃ¡tÃ©k keretÃ©ben kerÃ¼l vÃ©gre[..]\nhttps:/
 /momkult.hu/events/a-mezga-csalad-zenes-vigjatek-10/
URL:https://momkult.hu/events/a-mezga-csalad-zenes-vigjatek-10/
END:VEVENT
END:VCALENDAR