BEGIN:VCALENDAR
VERSION:2.0
PRODID:-//eventon.com NONSGML v1.0//EN
CALSCALE:GREGORIAN
METHOD:PUBLISH
BEGIN:VEVENT
UID:69ea409c4e4b3
DTSTAMP:20260423T155404Z
DTSTART:20190618T173000Z
DTEND:20190618T190000Z
LOCATION:
SUMMARY:Hello\,  WMN!
DESCRIPTION:TÃ©ma: Mire vÃ¡llalkozol\,  nÅ‘? â€“ ÃšjrakezdÃ©s Ã©s karriervÃ
 ¡ltÃ¡s\,  kudarc Ã©s siker A szÃ­npadon sajÃ¡t vÃ¡llalkozÃ¡sukat vezetÅ‘ Ã©
 s nagy vÃ¡llalatokat irÃ¡nyÃ­tÃ³ nÅ‘k osztjÃ¡k meg tÃ¶rtÃ©neteiket Ã©s tapa
 sztalataikat. TÃ¡mogatÃ³k: A Hello\,  WMN! rendezvÃ©nysorozat Â fÅ‘ tÃ¡moga
 tÃ³ja az F&amp;F\, Â dizÃ¡jn-felelÅ‘se a TorTer e-Design. A jÃºniusi est te
 matikus tÃ¡mogatÃ³ja az Erste Bank. Ã‰let. Kult. FÃ©rfi. NÅ‘[..]\nhttps://m
 omkult.hu/events/hello-wmn-3/
URL:https://momkult.hu/events/hello-wmn-3/
END:VEVENT
END:VCALENDAR