BEGIN:VCALENDAR
VERSION:2.0
PRODID:-//eventon.com NONSGML v1.0//EN
CALSCALE:GREGORIAN
METHOD:PUBLISH
BEGIN:VEVENT
UID:69ea55adf3536
DTSTAMP:20260423T172357Z
DTSTART:20190606T170000Z
DTEND:20190606T190000Z
LOCATION:
SUMMARY:Nagyszülők a kispadon? | HVG Extra Pszichológia Szalon
DESCRIPTION:Nagyszülők a kispadon? – Megoldások a családtagok közöt
 ti konfliktusok elkerüléséhez Mi a nagyszülők feladata? Hogyan viselke
 djenek és hogyan ne? Mit kell\,  és mit tilos tenniük azért\,  hogy jó
  kapcsolatban maradjanak gyermekeikkel\,  és kötődést tudjanak kialakí
 tani az unokáikkal? Hogyan befolyásolják a generációkon keresztül át
 adott viselkedésminták\,  traumák és megküzdési módok a nagyszülők
 \, [..]\nhttps://momkult.hu/events/nagyszulok-a-kispadon-hvg-extra-pszichol
 ogia-szalon/
URL:https://momkult.hu/events/nagyszulok-a-kispadon-hvg-extra-pszichologia-szalon/
END:VEVENT
END:VCALENDAR