BEGIN:VCALENDAR
VERSION:2.0
PRODID:-//eventon.com NONSGML v1.0//EN
CALSCALE:GREGORIAN
METHOD:PUBLISH
BEGIN:VEVENT
UID:69ea2fa139d17
DTSTAMP:20260423T144137Z
DTSTART:20190921T130000Z
DTEND:20190921T144500Z
LOCATION:
SUMMARY:Masha és a Medve
DESCRIPTION:Masha és barátai lázasan készülnek a Varázslók Világnap
 jára. Készülődés közben az ünnepi díszek és a sütemények titokza
 tos módon eltűnnek. Biztosan valami varázslat van a dologban! Masha mint
  fődetektív kibogozza a titokzatos történetet és megfejti a szörnyűs
 éges varázslatot. A legfélelmetesebb varázsló is megváltozhat\,  ha j
 ósággal és megértéssel szembesül. Ha valóban hiszünk[..]\nhttps://m
 omkult.hu/events/masha-es-a-medve-13/
URL:https://momkult.hu/events/masha-es-a-medve-13/
END:VEVENT
END:VCALENDAR