BEGIN:VCALENDAR
VERSION:2.0
PRODID:-//eventon.com NONSGML v1.0//EN
CALSCALE:GREGORIAN
METHOD:PUBLISH
BEGIN:VEVENT
UID:69ea425539939
DTSTAMP:20260423T160125Z
DTSTART:20190615T183000Z
DTEND:20190615T203000Z
LOCATION:
SUMMARY:POLE THEATRE HUNGARY 2019
DESCRIPTION:A Pole Theatre a vilÃ¡g szÃ¡mos orszÃ¡gÃ¡ban futÃ³\,  nÃ©pszerÅ
 ± rÃºdszÃ­nhÃ¡z-verseny\,  ahol a versenyzÅ‘k a sajÃ¡t Ã©rzelmes\,  tragiku
 s\,  vidÃ¡m vagy Ã©ppen meghÃ¶kkentÅ‘ tÃ¶rtÃ©netÃ¼ket beszÃ©lik el\,  rÃºdr
 a komponÃ¡lva. ErÅ‘ Ã©s hajlÃ©konysÃ¡g\,  show\,  Ã¶nkifejezÃ©s\,  szÃ³rako
 ztatÃ¡s â€“ ezt nyÃºjtja a kÃ©t kÃ¼lÃ¶nbÃ¶zÅ‘ tudÃ¡sszinten rendezett verse
 ny. A dÃ©lutÃ¡ni versenyben a kÃ¶zÃ©phaladÃ³k\,  az esti versenyben a[..]\n
 https://momkult.hu/events/pole-theatre-hungary-2019-2/
URL:https://momkult.hu/events/pole-theatre-hungary-2019-2/
END:VEVENT
END:VCALENDAR