BEGIN:VCALENDAR
VERSION:2.0
PRODID:-//eventon.com NONSGML v1.0//EN
CALSCALE:GREGORIAN
METHOD:PUBLISH
BEGIN:VEVENT
UID:69ea40fe5b83f
DTSTAMP:20260423T155542Z
DTSTART:20190613T170000Z
DTEND:20190613T180000Z
LOCATION:
SUMMARY:Divatbemutató | Budapesti Divatiskola
DESCRIPTION:Először végzős női szabóik “DIOR” inspirálta ruhái 
 kerülnek bemutatásra\,  majd az elsős divattervezők “PATCHWORK” ruh
 ái. Végül végzős divattervező hallgatók a „little house on the pra
 irie” témában tervezett kapszulakollekcióit láthatja a közönség.\n
 https://momkult.hu/events/divatbemutato-budapesti-rajziskola/
URL:https://momkult.hu/events/divatbemutato-budapesti-rajziskola/
END:VEVENT
END:VCALENDAR