BEGIN:VCALENDAR
VERSION:2.0
PRODID:-//eventon.com NONSGML v1.0//EN
CALSCALE:GREGORIAN
METHOD:PUBLISH
BEGIN:VEVENT
UID:69ea40dfbcbf0
DTSTAMP:20260423T155511Z
DTSTART:20190624
DTEND:20190625
LOCATION:
SUMMARY:Jókai tábor | Néptánctábor alsós gyerekeknek
DESCRIPTION:Néptánc\,  népi játékok\,  népdalok tanulása és kézmű
 veskedés. A foglalkozásokat Bettenbuk Krisztina\,  néptáncpedagógus ta
 rtja. Jelentkezni és érdeklődni a jokaineptanccsoport@gmail.com e-mail-c
 ímen lehet.\nhttps://momkult.hu/events/jokai-tabor-neptanctabor-alsos-gyer
 ekeknek/
URL:https://momkult.hu/events/jokai-tabor-neptanctabor-alsos-gyerekeknek/
END:VEVENT
END:VCALENDAR