BEGIN:VCALENDAR
VERSION:2.0
PRODID:-//eventon.com NONSGML v1.0//EN
CALSCALE:GREGORIAN
METHOD:PUBLISH
BEGIN:VEVENT
UID:69ea6b00be89e
DTSTAMP:20260423T185456Z
DTSTART:20190515T170000Z
DTEND:20190515T183000Z
LOCATION:
SUMMARY:Hitel-est
DESCRIPTION:\nhttps://momkult.hu/events/hitel-est-5/
URL:https://momkult.hu/events/hitel-est-5/
END:VEVENT
END:VCALENDAR