BEGIN:VCALENDAR
VERSION:2.0
PRODID:-//eventon.com NONSGML v1.0//EN
CALSCALE:GREGORIAN
METHOD:PUBLISH
BEGIN:VEVENT
UID:69ea2f32b0624
DTSTAMP:20260423T143946Z
DTSTART:20190828T200000Z
DTEND:20190828T221500Z
LOCATION:
SUMMARY:A szív hídjai | Mozi.kert
DESCRIPTION:Carolyn és Michael édesanyjuk halála után hazaérkeznek Mad
 ison Countyba. Döbbenten értesülnek anyjuk végakaratából arról\,  ho
 gy nem az édesapjuk mellé kívánja temettetni magát\,  hanem úgy rende
 lkezett\,  hogy hamvait vessék a híd alatti patak vizébe. A hagyatékot 
 rendezgetve különös\,  szívszorító történetre derül fény. Évekke
 l korábban\,  1965-ben\,  Francesca férje és gyerekei egy távoli[..]\nh
 ttps://momkult.hu/events/a-sziv-hidjai-mozi-kert/
URL:https://momkult.hu/events/a-sziv-hidjai-mozi-kert/
END:VEVENT
END:VCALENDAR