BEGIN:VCALENDAR
VERSION:2.0
PRODID:-//eventon.com NONSGML v1.0//EN
CALSCALE:GREGORIAN
METHOD:PUBLISH
BEGIN:VEVENT
UID:69ea2bf83808c
DTSTAMP:20260423T142600Z
DTSTART:20190807T200000Z
DTEND:20190807T215000Z
LOCATION:
SUMMARY:Zootropolis - Állati nagy balhé | Mozi.kert
DESCRIPTION:Zootropolis\,  a modern emlősök fővárosa\,  különleges he
 ly. Olyan részekből áll\,  mint az elegáns Szahara tér vagy a zord Tun
 draváros. Ebben a színes kavalkádban a világ minden tájáról származ
 ó állatok élnek egymás mellett békében. Itt nem számít ki vagy\,  a
  legnagyobb elefánt és a legkisebb mókuscickány is megfér egymással. 
 Amikor megérkezik[..]\nhttps://momkult.hu/events/zootropolis-allati-nagy-b
 alhe-mozi-kert/
URL:https://momkult.hu/events/zootropolis-allati-nagy-balhe-mozi-kert/
END:VEVENT
END:VCALENDAR