BEGIN:VCALENDAR
VERSION:2.0
PRODID:-//eventon.com NONSGML v1.0//EN
CALSCALE:GREGORIAN
METHOD:PUBLISH
BEGIN:VEVENT
UID:69ea2de293d1d
DTSTAMP:20260423T143410Z
DTSTART:20190731T200000Z
DTEND:20190731T222000Z
LOCATION:
SUMMARY:Ízek\,  imák\,  szerelmek | Mozi.kert
DESCRIPTION:Liznek (Julia Roberts) mindene megvan\,  amiről csak egy nő 
 lmodhat: férj\,  ház\,  sikeres írói karrier. Ám ő mégis boldogtala
 n. Hirtelen elhatározásból elköltözik otthonról\,  és kilép a háza
 sságából. Viszonyt kezd egy nála jóval fiatalabb színésszel\,  David
 del (James Franco)\,  ám ez sem elégíti ki. Úgy érzi\,  levegőváltoz
 ásra van szüksége\,  ezért világkörüli útra[..]\nhttps://momkult.hu
 /events/izek-imak-szerelmek-mozi-kert/
URL:https://momkult.hu/events/izek-imak-szerelmek-mozi-kert/
END:VEVENT
END:VCALENDAR