BEGIN:VCALENDAR
VERSION:2.0
PRODID:-//eventon.com NONSGML v1.0//EN
CALSCALE:GREGORIAN
METHOD:PUBLISH
BEGIN:VEVENT
UID:69ea425515711
DTSTAMP:20260423T160125Z
DTSTART:20190626T200000Z
DTEND:20190626T214000Z
LOCATION:
SUMMARY:Mindenki megvan | Mozi.kert
DESCRIPTION:Frank Goode egész életében keményen dolgozott egy huzalgyá
 rban\,  hogy családjának mindent meg tudjon adni. Nyugdíjasként\,  fele
 sége halála után\,  ébred rá\,  hogy túl kevés időt töltött gyere
 keivel\,  így itt az ideje\,  hogy változtasson. Mivel gyermekei nem tudj
 ák őt meglátogatni\,  mert annyira lefoglalja őket a saját problémáj
 uk\,  úgy dönt\,  hogy ő keresi[..]\nhttps://momkult.hu/events/mindenki-
 megvan-mozi-kert/
URL:https://momkult.hu/events/mindenki-megvan-mozi-kert/
END:VEVENT
END:VCALENDAR