BEGIN:VCALENDAR
VERSION:2.0
PRODID:-//eventon.com NONSGML v1.0//EN
CALSCALE:GREGORIAN
METHOD:PUBLISH
BEGIN:VEVENT
UID:69ea40e4f028a
DTSTAMP:20260423T155516Z
DTSTART:20190703T200000Z
DTEND:20190703T221500Z
LOCATION:
SUMMARY:LovagregÃ©ny | Mozi.kert
DESCRIPTION:William Thatcher (Heath Ledger) nemcsak kivÃ¡lÃ³ szÃ¡jhÅ‘s\,  h
 anem elsÅ‘ osztÃ¡lyÃº szÃ©dÃ­tÅ‘ is\,  akinek csupÃ¡n egy rang hiÃ¡nyzik a 
 teljes sikerhez. Mivel az nem terem minden bokorban\,  hÃ¡t hazudik egyet m
 agÃ¡nak\,  amikor Sir Ector a lovagi tornÃ¡n jobblÃ©tre szenderÃ¼l. Felvesz
 i a vÃ©rtezetÃ©t\,  Ã©s nÃ©hai ura nevÃ©ben megnyeri a dÃ­jat. Hamarosan vÃ
 ­g[..]\nhttps://momkult.hu/events/lovagregeny-mozi-kert/
URL:https://momkult.hu/events/lovagregeny-mozi-kert/
END:VEVENT
END:VCALENDAR