BEGIN:VCALENDAR
VERSION:2.0
PRODID:-//eventon.com NONSGML v1.0//EN
CALSCALE:GREGORIAN
METHOD:PUBLISH
BEGIN:VEVENT
UID:69e99e5e07be9
DTSTAMP:20260423T042150Z
DTSTART:20191210T200000Z
DTEND:20191210T213000Z
LOCATION:
SUMMARY:CRISTINA BRANCO | Get Closer Concerts
DESCRIPTION:Cristina Brancót kezdetben a jazz és a bossa nova vonzotta\, 
  majd miután nagyapja megismertette vele Amália Rodrigues muzsikáját\, 
  a portugál fado felé fordult. 22 évvel ezelőtti\,  amszterdami bemutat
 kozása után\,  és tizenöt albummal a háta mögött\,  a portugál Cris
 tina Branco 2018-ban kiadta Branco című új\,  tizenhatodik lemezét. Az 
 énekesnő\,  elmondása szerint\, [..]\nhttps://momkult.hu/events/cristina
 -branco-get-closer-concerts/
URL:https://momkult.hu/events/cristina-branco-get-closer-concerts/
END:VEVENT
END:VCALENDAR