BEGIN:VCALENDAR
VERSION:2.0
PRODID:-//eventon.com NONSGML v1.0//EN
CALSCALE:GREGORIAN
METHOD:PUBLISH
BEGIN:VEVENT
UID:69e9f0c0560ad
DTSTAMP:20260423T101320Z
DTSTART:20191015T190000Z
DTEND:20191015T203000Z
LOCATION:
SUMMARY:BRECKER-LIEBMAN-COPLAND QUINTET FEAT. DREW GRESS & JOEY BARON | Get Closer Concerts
DESCRIPTION:A quintet tagjai 40-50 Ã©ve folyamatosan meghatÃ¡rozÃ³ egyÃ©nis
 Ã©gei a jazz nemzetkÃ¶zi szÃ­nterÃ©nek. Az Ã¶t barÃ¡t: Randy Brecker\,  Dav
 id Liebman\,  Marc Copland\,  Drew Gress Ã©s Joey Baron folyamatosan kompon
 Ã¡l\,  zenÃ©l\,  Ãºj projekteken dolgozik. Randy Brecker â€“ trombita Dave 
 Liebman â€“ tenor sax\,  soprano sax Marc Copland â€“ zongora Drew Gress â€
 “[..]\nhttps://momkult.hu/events/brecker-liebman-copland-quintet-feat-drew-
 gress-joey-baron-get-closer-concerts/
URL:https://momkult.hu/events/brecker-liebman-copland-quintet-feat-drew-gress-joey-baron-get-closer-concerts/
END:VEVENT
END:VCALENDAR