BEGIN:VCALENDAR
VERSION:2.0
PRODID:-//eventon.com NONSGML v1.0//EN
CALSCALE:GREGORIAN
METHOD:PUBLISH
BEGIN:VEVENT
UID:69ea02eed41a0
DTSTAMP:20260423T113054Z
DTSTART:20191002T190000Z
DTEND:20191002T203000Z
LOCATION:
SUMMARY:GABY MORENO
DESCRIPTION:A guatemalai származású szerző és énekes\,  Gaby Moreno h
 angját előszeretettel hasonlítják Norah Joneséhoz és Tori Amoséhoz. 
 Olyan zenészekkel dolgozott és lépett fel\,  mint Tracy Chapman\,  a Pun
 ch Brothers\,  a Buena Vista Social Club\,  a Calexio\,  Bono\,  Andrea Boc
 celli\,  Bob Geldof\,  Hugh Laurie és Angelique Kidjo. 2013-ban elnyerte a
  latin Grammy-díjat[..]\nhttps://momkult.hu/events/gaby-moreno-get-closer-
 concerts/
URL:https://momkult.hu/events/gaby-moreno-get-closer-concerts/
END:VEVENT
END:VCALENDAR