BEGIN:VCALENDAR
VERSION:2.0
PRODID:-//eventon.com NONSGML v1.0//EN
CALSCALE:GREGORIAN
METHOD:PUBLISH
BEGIN:VEVENT
UID:69ea40e4cc526
DTSTAMP:20260423T155516Z
DTSTART:20190710T163000Z
DTEND:20190710T180000Z
LOCATION:
SUMMARY:AMA (American Music Abroad) Kórus és Zenekar (USA) | Klassz.bent
DESCRIPTION:Az AMA (Amerikai Zene Külföldön) kórus és zenekar 43 éve
  élvezi az európai közönség töretlen szeretetét. A Gold Tour (Arany 
 Turné) során\,  a középiskolai diákokból álló\,  70 fős szimfoniku
 s zenekar\,  a 25 tagot számláló vonósok és a 60 fős kórus lép fel.
  Az eseményen fellépő diákok összesen 36 amerikai iskolát képviselne
 k[..]\nhttps://momkult.hu/events/ama-american-music-abroad-korus-es-zenekar
 -usa-klassz-bent/
URL:https://momkult.hu/events/ama-american-music-abroad-korus-es-zenekar-usa-klassz-bent/
END:VEVENT
END:VCALENDAR