BEGIN:VCALENDAR
VERSION:2.0
PRODID:-//eventon.com NONSGML v1.0//EN
CALSCALE:GREGORIAN
METHOD:PUBLISH
BEGIN:VEVENT
UID:69ea58ccbdc66
DTSTAMP:20260423T173716Z
DTSTART:20190607T183000Z
DTEND:20190607T200000Z
LOCATION:
SUMMARY:Hegyvidéki Smooth Jazz Klub | Pálinkás Gergely és zenekara
DESCRIPTION:Pálinkás Gergely\,  gitáros\,  a dallamos jazz egyik legered
 etibb hazai képviselője. Gitártechnikája különleges\,  hiszen nem has
 znál pengetőt. Egyujjas\,  körömmel történő pengetése különleges 
 játékot és hangzást eredményez. Gergely 1969-ben született Vácott. Z
 enei tanulmányait hatéves korában kezdte szülővárosának zenei által
 ános iskolájában. 12 éves koráig klasszikus zenét és hegedülni tanu
 lt. 16 évesen\,  autodidakta módon[..]\nhttps://momkult.hu/events/hegyvid
 eki-smooth-jazz-klub-palinkas-gergely-es-zenekara/
URL:https://momkult.hu/events/hegyvideki-smooth-jazz-klub-palinkas-gergely-es-zenekara/
END:VEVENT
END:VCALENDAR