BEGIN:VCALENDAR
VERSION:2.0
PRODID:-//eventon.com NONSGML v1.0//EN
CALSCALE:GREGORIAN
METHOD:PUBLISH
BEGIN:VEVENT
UID:69ea2e497b27b
DTSTAMP:20260423T143553Z
DTSTART:20190714T170000Z
DTEND:20190714T180000Z
LOCATION:
SUMMARY:Azure String Orchestra of Wenyuan Middle School (CHN) | Klassz.kert
DESCRIPTION:English below A zhuhai (KÃ­na) Wenyuan KÃ¶zÃ©piskola Azure VonÃ
 ³s EgyÃ¼ttese 2008-ban jÃ¶tt lÃ©tre Ã©s egyike a kevÃ©s kÃ­nai iskolai vonÃ
 ³segyÃ¼tteseknek. A kÃ¶zÃ©piskolai egyÃ¼ttes hatvannÃ¡l is tÃ¶bb diÃ¡kot sz
 Ã¡mlÃ¡l. Az elmÃºlt Ã©vekben a zenekar repertoÃ¡rja Ã©s lÃ©tszÃ¡ma folyamat
 osan nÃ¶vekedett\,  egyre tÃ¶bbfÃ©le zenei irÃ¡nyzatot kÃ©pviselve. A 2006-
 ban alapÃ­tott Blue VonÃ³s EgyÃ¼ttes\,  mely[..]\nhttps://momkult.hu/events
 /azure-string-orchestra-of-wenyuan-middle-school-chn-klassz-kert/
URL:https://momkult.hu/events/azure-string-orchestra-of-wenyuan-middle-school-chn-klassz-kert/
END:VEVENT
END:VCALENDAR