BEGIN:VCALENDAR
VERSION:2.0
PRODID:-//eventon.com NONSGML v1.0//EN
CALSCALE:GREGORIAN
METHOD:PUBLISH
BEGIN:VEVENT
UID:69ea81d886b6c
DTSTAMP:20260423T203224Z
DTSTART:20190502T180000Z
DTEND:20190502T193000Z
LOCATION:
SUMMARY:BiogrÃ¡fiai munka | EgyÃ©ni sorsunk Ã©s kÃ¶zÃ¶ssÃ©gi cÃ©ljaink kibontakoztatÃ¡sa
DESCRIPTION:Josien de Vries\,  a BiogrÃ¡fiai AlapkÃ©pzÃ©s vezetÅ‘jÃ©nek elÅ
 ‘adÃ¡sa fiataloknak\,  szÃ¼lÅ‘knek\,  pedagÃ³gusoknak\,  coachoknak\,  vÃ¡l
 lalkozÃ³knak\,  ÃºtkeresÅ‘knek&#8230; valamint azoknak\,  akiket Ã©rdekelhe
 t egy 2020-ban indulÃ³ Ãºj kÃ©pzÃ©s.\nhttps://momkult.hu/events/biografiai-
 munka-egyeni-sorsunk-es-kozossegi-celjaink-kibontakoztatasa/
URL:https://momkult.hu/events/biografiai-munka-egyeni-sorsunk-es-kozossegi-celjaink-kibontakoztatasa/
END:VEVENT
END:VCALENDAR