BEGIN:VCALENDAR
VERSION:2.0
PRODID:-//eventon.com NONSGML v1.0//EN
CALSCALE:GREGORIAN
METHOD:PUBLISH
BEGIN:VEVENT
UID:69ea40fe5c71c
DTSTAMP:20260423T155542Z
DTSTART:20190707T180000Z
DTEND:20190707T193000Z
LOCATION:
SUMMARY:Los Angeles Children's Chorus Young Men's Ensemble (LACC) (USA) | Klassz.bent
DESCRIPTION:A Los Angeles Kórus 1986-ban alakult ifjúsági kórus. A gyer
 mekkórusban  6-12 éves gyerekek énekelnek\,  hét tagozatban. A Fiatal 
 Fiúk Kórusa tagjai 18 év feletti fiatalok. A Los Angeles Children&#8217
 ;s Chorus az évek folyamán az USA egyik legismertebb kórusává vált. A
  kórus többször turnézott Európában. 2019-ben\,  turnéjuk során Bud
 apesten\,  a MOMkult színpadán adnak[..]\nhttps://momkult.hu/events/los-
 angeles-childrens-chorus-lacc-the-young-mens-ensemble/
URL:https://momkult.hu/events/los-angeles-childrens-chorus-lacc-the-young-mens-ensemble/
END:VEVENT
END:VCALENDAR