BEGIN:VCALENDAR
VERSION:2.0
PRODID:-//eventon.com NONSGML v1.0//EN
CALSCALE:GREGORIAN
METHOD:PUBLISH
BEGIN:VEVENT
UID:69ea6e03a8d3a
DTSTAMP:20260423T190747Z
DTSTART:20190517T183000Z
DTEND:20190517T200000Z
LOCATION:
SUMMARY:Hegyvidéki Smooth Jazz Klub | Fourtissimo Jazz Orchestra
DESCRIPTION:&#8222;Mert ti olyanok vagytok\,  mint a tükör: ahogy a szín
 padon álltok\,  a zenei tudás mellett az életörömötökkel a hallgató
 ságban is felébresztitek az életörömöt. Azt hiszem\,  ez a legtöbb\,
   amit művész megtehet. ” /Rados Virág\,  író/ A Fourtissimo Jazz O
 rchestrát a Príma-díjas Fourtissimo tagjai alapították 2012-ben. Megal
 akulásuk után a Zuglói Smooth Jazz[..]\nhttps://momkult.hu/events/hegyvi
 deki-smooth-jazz-klub-fourtissimo-jazz-orchestra/
URL:https://momkult.hu/events/hegyvideki-smooth-jazz-klub-fourtissimo-jazz-orchestra/
END:VEVENT
END:VCALENDAR