BEGIN:VCALENDAR
VERSION:2.0
PRODID:-//eventon.com NONSGML v1.0//EN
CALSCALE:GREGORIAN
METHOD:PUBLISH
BEGIN:VEVENT
UID:69ea42c96d8db
DTSTAMP:20260423T160321Z
DTSTART:20190619T160000Z
DTEND:20190619T173000Z
LOCATION:
SUMMARY:Cleveland Youth Orchestra Ifjúsági Zenekar | Klassz.Bent
DESCRIPTION:A Cleveland Orchestra Youth Orchestra Ifjúsági Zenekar idén 
 ünnepli megalakulásának 33. évfordulóját. Megalakulása óta számtal
 an hazai és külföldi koncertet adott és méltán került be az Amerikai
  Egyesült Államok legrangosabb ifjúsági zenekarai közé. A Jahja Ling 
 által alapított zenekar célja a fiatal\,  tehetséges zenészek felkarol
 ása és támogatása. Komolyzenei fejlődést biztosít\,  illetve[..]\nht
 tps://momkult.hu/events/cleveland-youth-orchestra-ifjusagi-zenekar-klassz-b
 ent/
URL:https://momkult.hu/events/cleveland-youth-orchestra-ifjusagi-zenekar-klassz-bent/
END:VEVENT
END:VCALENDAR